BEGIN:VCALENDAR
VERSION:2.0
PRODID:-//TOG Farms - ECPv6.15.20//NONSGML v1.0//EN
CALSCALE:GREGORIAN
METHOD:PUBLISH
X-WR-CALNAME:TOG Farms
X-ORIGINAL-URL:https://togfarms.com
X-WR-CALDESC:Events for TOG Farms
REFRESH-INTERVAL;VALUE=DURATION:PT1H
X-Robots-Tag:noindex
X-PUBLISHED-TTL:PT1H
BEGIN:VTIMEZONE
TZID:America/New_York
BEGIN:DAYLIGHT
TZOFFSETFROM:-0500
TZOFFSETTO:-0400
TZNAME:EDT
DTSTART:20240310T070000
END:DAYLIGHT
BEGIN:STANDARD
TZOFFSETFROM:-0400
TZOFFSETTO:-0500
TZNAME:EST
DTSTART:20241103T060000
END:STANDARD
BEGIN:DAYLIGHT
TZOFFSETFROM:-0500
TZOFFSETTO:-0400
TZNAME:EDT
DTSTART:20250309T070000
END:DAYLIGHT
BEGIN:STANDARD
TZOFFSETFROM:-0400
TZOFFSETTO:-0500
TZNAME:EST
DTSTART:20251102T060000
END:STANDARD
BEGIN:DAYLIGHT
TZOFFSETFROM:-0500
TZOFFSETTO:-0400
TZNAME:EDT
DTSTART:20260308T070000
END:DAYLIGHT
BEGIN:STANDARD
TZOFFSETFROM:-0400
TZOFFSETTO:-0500
TZNAME:EST
DTSTART:20261101T060000
END:STANDARD
END:VTIMEZONE
BEGIN:VEVENT
DTSTART;TZID=America/New_York:20251213T100000
DTEND;TZID=America/New_York:20251213T130000
DTSTAMP:20260423T164734
CREATED:20251104T170347Z
LAST-MODIFIED:20251104T170347Z
UID:4775-1765620000-1765630800@togfarms.com
SUMMARY:Auggie's Buzzar
DESCRIPTION:✨ Join Us at the Auggie Buzzar Holiday Market! ✨ \nWe’re thrilled to be part of this year’s Auggie Buzzar at SRP Park\, a holiday market filled with local makers\, festive cheer\, and one-of-a-kind treasures. Stop by our booth to explore: \n\n🌿 Handcrafted Teas & Herbs – blends to warm the season and soothe the spirit\n🌸 Herbal Remedies – natural wellness rooted in tradition and care\n🎁 Gift Baskets – thoughtfully curated for holiday giving\n✨ And so much more – unique finds to brighten your celebrations\n\nCome sip\, shop\, and share in the holiday magic with us. Whether you’re looking for a cozy cup of tea\, a healing remedy\, or the perfect gift\, we’ll have something special waiting for you.
URL:https://togfarms.com/event/auggies-buzzar/
LOCATION:SRP Park\, 187 Railroad Ave\,\, north Augusta\, SC\, 29841\, United States
CATEGORIES:Auggie's Buzzar
END:VEVENT
END:VCALENDAR