BEGIN:VCALENDAR
VERSION:2.0
PRODID:-//TOG Farms - ECPv6.15.20//NONSGML v1.0//EN
CALSCALE:GREGORIAN
METHOD:PUBLISH
X-WR-CALNAME:TOG Farms
X-ORIGINAL-URL:https://togfarms.com
X-WR-CALDESC:Events for TOG Farms
REFRESH-INTERVAL;VALUE=DURATION:PT1H
X-Robots-Tag:noindex
X-PUBLISHED-TTL:PT1H
BEGIN:VTIMEZONE
TZID:America/New_York
BEGIN:DAYLIGHT
TZOFFSETFROM:-0500
TZOFFSETTO:-0400
TZNAME:EDT
DTSTART:20240310T070000
END:DAYLIGHT
BEGIN:STANDARD
TZOFFSETFROM:-0400
TZOFFSETTO:-0500
TZNAME:EST
DTSTART:20241103T060000
END:STANDARD
BEGIN:DAYLIGHT
TZOFFSETFROM:-0500
TZOFFSETTO:-0400
TZNAME:EDT
DTSTART:20250309T070000
END:DAYLIGHT
BEGIN:STANDARD
TZOFFSETFROM:-0400
TZOFFSETTO:-0500
TZNAME:EST
DTSTART:20251102T060000
END:STANDARD
BEGIN:DAYLIGHT
TZOFFSETFROM:-0500
TZOFFSETTO:-0400
TZNAME:EDT
DTSTART:20260308T070000
END:DAYLIGHT
BEGIN:STANDARD
TZOFFSETFROM:-0400
TZOFFSETTO:-0500
TZNAME:EST
DTSTART:20261101T060000
END:STANDARD
END:VTIMEZONE
BEGIN:VEVENT
DTSTART;TZID=America/New_York:20251213T100000
DTEND;TZID=America/New_York:20251213T130000
DTSTAMP:20260420T015240
CREATED:20251104T170347Z
LAST-MODIFIED:20251104T170347Z
UID:4775-1765620000-1765630800@togfarms.com
SUMMARY:Auggie's Buzzar
DESCRIPTION:✨ Join Us at the Auggie Buzzar Holiday Market! ✨ \nWe’re thrilled to be part of this year’s Auggie Buzzar at SRP Park\, a holiday market filled with local makers\, festive cheer\, and one-of-a-kind treasures. Stop by our booth to explore: \n\n🌿 Handcrafted Teas & Herbs – blends to warm the season and soothe the spirit\n🌸 Herbal Remedies – natural wellness rooted in tradition and care\n🎁 Gift Baskets – thoughtfully curated for holiday giving\n✨ And so much more – unique finds to brighten your celebrations\n\nCome sip\, shop\, and share in the holiday magic with us. Whether you’re looking for a cozy cup of tea\, a healing remedy\, or the perfect gift\, we’ll have something special waiting for you.
URL:https://togfarms.com/event/auggies-buzzar/
LOCATION:SRP Park\, 187 Railroad Ave\,\, north Augusta\, SC\, 29841\, United States
CATEGORIES:Auggie's Buzzar
END:VEVENT
BEGIN:VEVENT
DTSTART;VALUE=DATE:20251004
DTEND;VALUE=DATE:20251005
DTSTAMP:20260420T015240
CREATED:20250924T175137Z
LAST-MODIFIED:20251003T193608Z
UID:4465-1759536000-1759622399@togfarms.com
SUMMARY:October Product Release (10% 1 Day Sale)
DESCRIPTION:The Following Tintures will be released on 10/4/2025 \n\nWhite Willow\nEmpress Brew\nMullein\nAshwagandha\n\nOils \n\nMullein\nSt. John’s Wort\nMullein Ear Oil\nMagnesium Oil\n\nTeas \n\nAuntie’s Cozy Cure\nMoonlight Clarity\nCeylon Whisper\nBlue Ember\n\nOther \n\nMagnesium Gel\n\n  \nSave 10% Today only on your total order. No codes needed. \n 
URL:https://togfarms.com/event/product-release/
LOCATION:SC
CATEGORIES:Product Release
ATTACH;FMTTYPE=image/jpeg:https://togfarms.com/wp-content/uploads/2025/09/Create-a-Product-Release-Logo-with-Herbs-Tinctures-Balms-Teas-Salves-1-e1758801140295.jpg
END:VEVENT
BEGIN:VEVENT
DTSTART;TZID=America/New_York:20250621T080000
DTEND;TZID=America/New_York:20250621T140000
DTSTAMP:20260420T015240
CREATED:20250423T130049Z
LAST-MODIFIED:20250423T130049Z
UID:3236-1750492800-1750514400@togfarms.com
SUMMARY:Augusta Market
DESCRIPTION:
URL:https://togfarms.com/event/augusta-market-2/
LOCATION:The Augusta Market\, 15 8th Street \,\, Augusta\, GA\, Georgia\, 30901\, United States
CATEGORIES:The Augusta Market
END:VEVENT
BEGIN:VEVENT
DTSTART;TZID=America/New_York:20250614T080000
DTEND;TZID=America/New_York:20250614T140000
DTSTAMP:20260420T015240
CREATED:20250423T125226Z
LAST-MODIFIED:20250423T125226Z
UID:3234-1749888000-1749909600@togfarms.com
SUMMARY:The Augusta Market
DESCRIPTION:
URL:https://togfarms.com/event/the-augusta-market/
LOCATION:The Augusta Market\, 15 8th Street \,\, Augusta\, GA\, Georgia\, 30901\, United States
CATEGORIES:The Augusta Market
END:VEVENT
BEGIN:VEVENT
DTSTART;TZID=America/New_York:20250607T080000
DTEND;TZID=America/New_York:20250607T140000
DTSTAMP:20260420T015240
CREATED:20250422T164258Z
LAST-MODIFIED:20250606T121553Z
UID:3230-1749283200-1749304800@togfarms.com
SUMMARY:TOG Farms @ Augusta Market
DESCRIPTION:This week at TOG Farms\, we’re thrilled to introduce our limited supply of fresh South Carolina Asparagus. Don’t miss out on this seasonal favorite – place your order today! \nVegetables Available This Week:\nCorn\, Tomatoes\, Yellow Baby Patty Pans\, Large White Patty Pans\, Yellow Squash\, Zucchini\, Cucumbers\, Onions\, and Green Bell Peppers. \nFeatured Fruits This Week:\nEnjoy a delicious selection of peaches\, Mandrian Oranges\, Plums\, Apricots\, Green Sour Plums\, Lemon and Limes. Plus\, we have a very limited amount of blueberries available.
URL:https://togfarms.com/event/tog-farms-augusta-market-6/
LOCATION:SC
CATEGORIES:The Augusta Market
END:VEVENT
BEGIN:VEVENT
DTSTART;TZID=America/New_York:20250531T080000
DTEND;TZID=America/New_York:20250531T140000
DTSTAMP:20260420T015240
CREATED:20250422T163806Z
LAST-MODIFIED:20250422T163806Z
UID:3227-1748678400-1748700000@togfarms.com
SUMMARY:TOG Farms @ Augusta Market
DESCRIPTION:
URL:https://togfarms.com/event/tog-farms-augusta-market-5/
LOCATION:The Augusta Market\, 15 8th Street \,\, Augusta\, GA\, Georgia\, 30901\, United States
CATEGORIES:The Augusta Market
END:VEVENT
BEGIN:VEVENT
DTSTART;TZID=America/New_York:20250524T080000
DTEND;TZID=America/New_York:20250524T170000
DTSTAMP:20260420T015240
CREATED:20250422T163202Z
LAST-MODIFIED:20250422T163202Z
UID:3225-1748073600-1748106000@togfarms.com
SUMMARY:TOG Farms @ Augusta Market
DESCRIPTION:
URL:https://togfarms.com/event/tog-farms-augusta-market-4/
LOCATION:SC
CATEGORIES:The Augusta Market
END:VEVENT
BEGIN:VEVENT
DTSTART;TZID=America/New_York:20250517T080000
DTEND;TZID=America/New_York:20250517T140000
DTSTAMP:20260420T015240
CREATED:20250422T163045Z
LAST-MODIFIED:20250422T163105Z
UID:3223-1747468800-1747490400@togfarms.com
SUMMARY:TOG Farms @ Augusta Market
DESCRIPTION:
URL:https://togfarms.com/event/tog-farms-augusta-market-3/
LOCATION:SC
CATEGORIES:The Augusta Market
END:VEVENT
BEGIN:VEVENT
DTSTART;TZID=America/New_York:20250510T080000
DTEND;TZID=America/New_York:20250510T140000
DTSTAMP:20260420T015240
CREATED:20250422T163018Z
LAST-MODIFIED:20250510T214431Z
UID:3221-1746864000-1746885600@togfarms.com
SUMMARY:TOG Farms @ Augusta Market - Canceled due to Rain
DESCRIPTION:Dear Valued Customers\, due to the anticipated inclement weather\, we regret to inform you that TOG Farms will not be at the Augusta Market tomorrow. Your safety and comfort are our top priority. We appreciate your understanding and look forward to seeing you next Saturday.
URL:https://togfarms.com/event/tog-farms-augusta-market-2/
LOCATION:The Augusta Market\, 15 8th Street \,\, Augusta\, GA\, Georgia\, 30901\, United States
CATEGORIES:The Augusta Market
END:VEVENT
BEGIN:VEVENT
DTSTART;TZID=America/New_York:20250503T080000
DTEND;TZID=America/New_York:20250503T140000
DTSTAMP:20260420T015240
CREATED:20250420T234624Z
LAST-MODIFIED:20250421T230948Z
UID:3197-1746259200-1746280800@togfarms.com
SUMMARY:TOG Farms @ Augusta Market
DESCRIPTION:Our season is in full Swing. We will be back with Fresh Produce\, great Teas\, and much more. If you miss out on our opening day\, don’t worry—we will do it all over again on Saturday. We can’t wait to see you there
URL:https://togfarms.com/event/tog-farms-augusta-market/
LOCATION:The Augusta Market\, 15 8th Street \,\, Augusta\, GA\, Georgia\, 30901\, United States
CATEGORIES:The Augusta Market
ATTACH;FMTTYPE=image/jpeg:https://togfarms.com/wp-content/uploads/2025/04/2024-booth.jpg
END:VEVENT
BEGIN:VEVENT
DTSTART;TZID=America/New_York:20250426T080000
DTEND;TZID=America/New_York:20250426T140000
DTSTAMP:20260420T015240
CREATED:20250421T230830Z
LAST-MODIFIED:20250421T230830Z
UID:3205-1745654400-1745676000@togfarms.com
SUMMARY:Augusta Market
DESCRIPTION:This week\, we’re celebrating the abundance of fresh produce that summer brings. From tangy green tomatoes to sweet strawberries\, the garden is bursting with flavors and nutrients. Embrace the farm-to-table movement and support local farmers by incorporating seasonal picks into your meals. Elevate your culinary creations with unique heirloom tomatoes\, nutrient-rich asparagus\, and refreshing cucumbers. Let’s savor the essence of summer together! #FreshProduce #FarmToTable #SustainableEating #HealthyLiving #CulinaryDelights
URL:https://togfarms.com/event/augusta-market/
LOCATION:The Augusta Market\, 15 8th Street \,\, Augusta\, GA\, Georgia\, 30901\, United States
CATEGORIES:The Augusta Market
END:VEVENT
BEGIN:VEVENT
DTSTART;TZID=America/New_York:20250423T080000
DTEND;TZID=America/New_York:20250423T140000
DTSTAMP:20260420T015240
CREATED:20250423T201157Z
LAST-MODIFIED:20250423T201157Z
UID:3254-1745395200-1745416800@togfarms.com
SUMMARY:Augusta Market
DESCRIPTION:
URL:https://togfarms.com/event/augusta-market-5/
LOCATION:The Augusta Market\, 15 8th Street \,\, Augusta\, GA\, Georgia\, 30901\, United States
CATEGORIES:The Augusta Market
END:VEVENT
BEGIN:VEVENT
DTSTART;TZID=America/New_York:20250419T080000
DTEND;TZID=America/New_York:20250419T140000
DTSTAMP:20260420T015240
CREATED:20250423T201523Z
LAST-MODIFIED:20250423T201523Z
UID:3264-1745049600-1745071200@togfarms.com
SUMMARY:The Augusta Market
DESCRIPTION:https://togfarms.com/whats-fresh-this-week-unveiling-the-hidden-gems-of-garden-produce-and-fruits/
URL:https://togfarms.com/event/the-augusta-market-4/
LOCATION:The Augusta Market\, 15 8th Street \,\, Augusta\, GA\, Georgia\, 30901\, United States
CATEGORIES:The Augusta Market
END:VEVENT
END:VCALENDAR